BEGIN:VCALENDAR
VERSION:2.0
PRODID:Imitheme.com 
BEGIN:VEVENT
UID:20260420T181747993441934
DTSTAMP;TZID=UTC:2026-04-20 18:17:47
DTSTART;TZID=America/Los_Angeles:20260420T181747
DTEND;TZID=America/Los_Angeles:20260420T181747
SUMMARY:Bible Study (Online)
LOCATION:Online via Zoom
DESCRIPTION:Join us online every Wednesday night for evening Bible Study!
URL:https://ocsummitchurch.com/eventer/bible-study-online/
END:VEVENT
END:VCALENDAR
